Workbook

Sheet フォーム
A2: 「中国経済と日本企業2027年白書」建議作成に係るアンケート回答用紙
B4: 貴社名 ：
B5: 商工会・日本人会名 | E5: ※中国日本商会会員以外の場合には必ずご記入ください。
A7: １．建議の内容
A8: (1) | B8: ステータス | C8: (プルダウン選択) | D8: =VLOOKUP(C8,選択肢!$A$15:$B$20,2,FALSE)
B9: 建議掲載 章・番号 | C9: (プルダウン選択) | D9: (プルダウン選択) | E9: ※「新規」以外を選択した場合、選択ください
B10: 課題 （事例：出来るだけ具体的に『いつ・どこで』発生した課題か、またその背景などを記載頂けると助かります）
B11: 改善要望 （改善[完了][継続]の場合、改善した内容も記載ください）
B12: 分 野 | C12: (プルダウン選択)
B13: └ 業種 / 地域 | D13: ※「業種固有の課題」「地域固有の課題」を選択した場合に記入ください
B14: 関連法令・制度等 | E14: ※「関連法令・制度等」あるいは「所轄する機関・部署」のいずれかを原則明記してください。
B15: 所轄する機関・部署
A18: (2) | B18: ステータス | C18: (プルダウン選択) | D18: =VLOOKUP(C18,選択肢!$A$15:$B$20,2,FALSE)
B19: 建議掲載 章・番号 | C19: (プルダウン選択) | D19: (プルダウン選択) | E19: ※「新規」以外を選択した場合、選択ください
B20: 課題 （事例：出来るだけ具体的に『いつ・どこで』発生した課題か、またその背景などを記載頂けると助かります）
B21: 改善要望 （改善[完了][継続]の場合、改善した内容も記載ください）
B22: 分 野 | C22: (プルダウン選択)
B23: └ 業種 / 地域 | D23: ※「業種固有の課題」「地域固有の課題」を選択した場合に記入ください
B24: 関連法令・制度等 | E24: ※「関連法令・制度等」あるいは「所轄する機関・部署」のいずれかを原則明記してください。
B25: 所轄する機関・部署
A28: (3) | B28: ステータス | C28: (プルダウン選択) | D28: =VLOOKUP(C28,選択肢!$A$15:$B$20,2,FALSE)
B29: 建議掲載 章・番号 | C29: (プルダウン選択) | D29: (プルダウン選択) | E29: ※「新規」以外を選択した場合、選択ください
B30: 課題 （事例：出来るだけ具体的に『いつ・どこで』発生した課題か、またその背景などを記載頂けると助かります）
B31: 改善要望 （改善[完了][継続]の場合、改善した内容も記載ください）
B32: 分 野 | C32: (プルダウン選択)
B33: └ 業種 / 地域 | D33: ※「業種固有の課題」「地域固有の課題」を選択した場合に記入ください
B34: 関連法令・制度等 | E34: ※「関連法令・制度等」あるいは「所轄する機関・部署」のいずれかを原則明記してください。
B35: 所轄する機関・部署
A38: (4) | B38: ステータス | C38: (プルダウン選択) | D38: =VLOOKUP(C38,選択肢!$A$15:$B$20,2,FALSE)
B39: 建議掲載 章・番号 | C39: (プルダウン選択) | D39: (プルダウン選択) | E39: ※「新規」以外を選択した場合、選択ください
B40: 課題 （事例：出来るだけ具体的に『いつ・どこで』発生した課題か、またその背景などを記載頂けると助かります）
B41: 改善要望 （改善[完了][継続]の場合、改善した内容も記載ください）
B42: 分 野 | C42: (プルダウン選択)
B43: └ 業種 / 地域 | D43: ※「業種固有の課題」「地域固有の課題」を選択した場合に記入ください
B44: 関連法令・制度等 | E44: ※「関連法令・制度等」あるいは「所轄する機関・部署」のいずれかを原則明記してください。
B45: 所轄する機関・部署
A48: (5) | B48: ステータス | C48: (プルダウン選択) | D48: =VLOOKUP(C48,選択肢!$A$15:$B$20,2,FALSE)
B49: 建議掲載 章・番号 | C49: (プルダウン選択) | D49: (プルダウン選択) | E49: ※「新規」以外を選択した場合、選択ください
B50: 課題 （事例：出来るだけ具体的に『いつ・どこで』発生した課題か、またその背景などを記載頂けると助かります）
B51: 改善要望 （改善[完了][継続]の場合、改善した内容も記載ください）
...

Sheet 【参考】2026年 建議一覧 
B1: 2026年版白書 建議一覧 | G1: 色がついているセルはエグゼクティブサマリーに掲載した建議になります。
C2: 大項目 | D2: 中項目 | E2: 番号 | F2: 建議タイトル | G2: 建議内容
B4: 第2部 第１章 貿易
C5: 大項目 | D5: 中項目 | E5: 番号 | F5: 建議タイトル | G5: 建議内容
C6: 1. 貿易管理関連法規制 | E6: ① | F6: 輸出管理法制における不透明性の排除および国際標準に則した運用 | G6: 「輸出管理法」が2020年12月に施行されて以降、（その下位法令として）「両用品目輸出管理条例」「両用品目輸出管理リスト」が2024年12月に施行されるなど、関連法令については順次整備が進められているが、依然としてその内容や運用に関し不透明性が存在している。また、2025年12月に「対外貿易法」が拡充され、2026年1月には日本向け両用品目の規制が公告されたほか、続く2月には関連法令に基づく新たな公告により一部取引に制限がかかるなど不透明性が増大している面もある。管理品目等の関連細則の整備、解釈の統一的運用を進めるとともに、公表した情報は整理のうえ解説を要望する。また、同法における輸出許可の要否（該非判定）が不明瞭なケースも見られることから、基準をよりいっそう明確化するとともに、許可申請から許可取得までに要する時間の短縮を要望する。過度な輸出規制や貿易措置は民生用品のサプライチェーンを阻害する要因にもなりかねないことから、対象を真に安全保障にかかるものに限定し、国際標準に即した、適切な関連法規制の運用とすることを要望する。
E7: ② | F7: 希土類等の輸出許可申請の円滑化ならびに不透明性の排除 | G7: 2023年より順次実施され、2024年9月および2025年2月・4月に追加された各種レアアース・レアメタルに対する輸出許可申請において、手続が遅滞するケースが発生している。これら資源は中国が世界における主要生産・輸出国であり、サプライチェーンの構築において重要な役割を担っている。在中国日本企業は商務部の産業安全・輸出入管制局が発表する両用品目の輸出に関するQ＆Aやガイドラインなども活用し、関連法令の内容を理解し、関連法令に従った対応を行っているが、認可基準の不透明性は依然として残っている。関連法規制に対するさらなる説明ならびに申請手続のさらなる円滑化を要望する。
E8: ③ | F8: 再輸出規制の適用範囲の合理的かつ国際標準に則した設定 | G8: 「輸出管理法」では「再輸出」「みなし輸出」「法の域外適用による責任追及」などが定められているが、これらがどのように運用されるかが不透明である。これらは、運用の如何により、業界や企業のサプライチェーンを含めた既存のビジネスモデルへ大きな影響を与えるものであり、既存ビジネスの予見性の著しい低下および、新規投資を抑制する大きな要因となりえる。その内容や運用が国際標準から乖離しないことを要望するとともに、投資、産業および企業への影響を抑えるよう、再輸出規制の範囲を合理的に設定するよう要望する。 また、2025年10月9日公布の商務部公告2025年第61号「海外における関連レアアース品目に対する輸出管理実施の決定」は、11月7日公布の商務部公告2025年第70号にて2026年11月10日まで暫定停止とされたが、第61号公告に基づきレアアースの輸出管理の強化が適用された場合、グローバルサプライチェーンへの影響は甚大なものと想定される。商務部公告2025年第61号の取り止め、または停止期間の延長を要望する。
E9: ④ | F9: 関連規制・制度の情報開示時期および具体的実施方法の事前通知化 | G9: 輸出入管理など貿易実務に関する規制・制度の変更が直前に周知されるケースがある。WCO（世界税関機構）改正「京都規約」の一般付属書第9章では、税関はすべての利害関係者が関連情報を容易に入手できるようにすること、変更が発生した際には事前に十分な余裕を持って情報を入手できるようにすることを規定している。商務部や海関総署などの関連部門に対し、貿易実務に伴う規制・制度の変更を実施する場合には、十分な準備期間を確保するとともに、文書で事前にウェブサイトに掲載するなど情報開示時期および具体的実施方法について配慮するよう要望する。
E10: ⑤ | F10: 海関総署とのコミュニケーション機会の構築 | G10: 中国政府は「ハイレベルの対外開放の拡大」の方針に基づき、貿易強国の建設や多国間貿易体制の構築に向けて、対外貿易の質的向上を図っている。これらの実現には、法規制や手続規則などの整備による貿易取引の促進が重要である。法規制や手続規則などの整備においては、外資企業の意見によりいっそうの配慮を要望するとともに、日中双方にとってウィンウィンとなる建設的対話を行うため、日本企業ならびに日本企業を代表する関連団体・組織と海関総署のコミュニケーション機会の構築を要望する。
C11: 2.税関規則・HSコード、通関関連 | E11: ⑥ | F11: 税関規則・規定に対する解釈の統一および統一的運用の強化 | G11: 同一製品のHSコードや原産地証明など輸出入申告に関する税関審査および保税区、物流園区または保税港区の運用や規則、規定に対する解釈が、地域や担当者により異なるケースがある。マニュアルの整備などにより全国で統一的な運用を行うよう要望する。また、税関内での情報共有が全国統一的な運用の実効性を高めるため、税関間の調整機能の強化を要望する。 RCEP協定の利用にあたっては、日中両国のHSコード分類判断が相違する場合、両国税関がコミュニケーション、協調体制を構築し、企業の実務における困難を解決し、企業がRCEP協定による減税の優遇を真に享受できるように要望する。
E12: ⑦ | F12: HSコード修正時の提出資料確認の迅速化、および適切な修正期間の設定 | G12: 税関調査でHSコードの違いを指摘され、関連資料・説明書を提出したものの、2カ月以上回答を得られないケースがあった。また、税関担当者の交代により、従来用いていたHSコードではなく別のHSコードへの修正指摘が入り、修正機会なく即時処罰が課されたケースもあった。その他には、HSコードの違いを過去数10年に遡り処罰を行うとした指摘も発生している。HSコードの修正に関しては、提出資料の確認の迅速化ならびにその回答期限の提示、適切な修正機会の設定を要望する。
E13: ⑧ | F13: 通関所要時間の調査およびその公表、商品検査リードタイムの短縮 | G13: 「WTO貿易円滑化協定」第7条では努力規定として所要時間調査（TRS）を定期的に実施し公表するように求めている。各税関の通関所要時間を可視化することにより、通関効率化への取り組み向上にもつながるため、税関ごとの通関所要時間を調査し公表するよう要望する。また、上記で収集したデータに基づき、引き続き通関、商品検査にかかわるリードタイムの短縮に取り組むよう要望する。
E14: ⑨ | F14: 通関申告地と検査検疫組織間の連携強化、通関申告地での法定検査受検の取り扱い | G14: 輸入商品の法定検査について、「輸出入商品検査法実施条例」第16条に基づき通関申告地の出入境検験検疫機構へ検査申請することになっており、かつ、同条例第18条により目的地での検査を受けなければならないが、通関申告地と目的地の検査検疫組織間で申請情報の連絡がうまくできておらず、検査まで非常に時間を要したケースがあった。海関総署等の関連部門に対して、通関申告地においても法定検査を受検できるよう要望する。併せて商品検査検疫の迅速化、手続の簡素化を早期に実現し、同一港湾のみならず全国で検疫一体化を実施するよう要望する。
E15: ⑩ | F15: 通関後の輸出入申告事項の修正の可否明確化、自主的な修正申告が認められる事例の提示 | G15: 「税関輸出入貨物通関申告書修正および取消管理弁法」第7条により、修正事由が通関業者に起因する場合は申告事項を修正できるが、それ以外の中国輸入者や海外輸出者等に起因する場合については修正の可否が規定されておらず、修正が認められない場合が多い。海関総署等の関連部門に対して、通関後の輸出入申告事項の修正の可否を明確にするとともに、FAQ等にて自主的な修正申告が認められる事例の提示を要望する。
E16: ⑪ | F16: 一時輸入申請ガイドラインの提示 | G16: 一時輸入を行う際「合理的な数量」を超えていると判断された場合、申請が受理されないケースがある。同申請は貨物が中国に到着した後の輸送情報を基に提出することが可能だが、申請が却下された場合、貨物を返送せざるを得ず、返送費用が発生する。海関総署による「貨物一時輸出入管理弁法」では「合理的な数量」に関する明確な定義が示されておらず、税関担当者の判断によるところが大きい。一時輸入申請における具体的数量などの条件を明示したガイドラインの提示を要望する。
E17: ⑫ | F17: サービス貿易における課税要否や課税価格判断根拠の明確な提示 | G17: 税関によるロイヤルティ支払いや特殊関係間の取引価格にかかわる調査が強化されている。しかし、個々の案件について、税関からどのような根拠・基準に基づいて課税の必要性や価格の妥当性を判断しているかの情報が企業に十分に開示されていない。また、企業の主張および説明に対して税関が同意しない場合、その理由を明確にせず、企業に主張を立証するように一方的に求める事例がある。企業の対応負担を減らすため、海関総署から各地税関に対して、課税の要否や課税価格の判断根拠を明確に提示するよう指導することを要望する。
E18: ⑬ | F18: AEO制度および税関高級認証企業標準の改善 | G18: AEO（Authorized Economic Operator）制度は、2026年1月公布の海関総署令第282号「税関登録登記および届出企業信用管理弁法」にて改定が図られたが、依然として新規受付・承認・認定に時間を要すること、ならびに再認定に伴う提出書類が多いことから、その簡素化を引き続き要望する。日本では製造業、通関業者それぞれ業種カテゴリーごとに審査基準があるが、中国では業種ごとの分別はなく、自社の業務に関係の無い項目も審査対象となっていることから、業種ごとの審査基準の設定を要望する。また、基準を満たすための条件が画一的であり柔軟性に欠ける。認証企業の判断基準を細分化するなど、より対象となる企業の事業実態や運営状況に合ったかたちでの基準の見直しを要望する。
C19: 3.貿易決済、自由貿易協定、その他 | E19: ⑭ | F19: 貨物貿易の外貨支払業務における規制緩和の継続 | G19: 貨物貿易にかかる外貨支払業務を行う際には、原則、輸入通関情報を照会する運用がなされており、その結果通関手続が終了するまで外貨支払ができず、支払が遅れる事象が依然として起きている。また、三国間貿易決済に関する規制は緩和されているものの、適用対象は限定的なものにとどまる。規制緩和の継続、会社規模にかかわらず信用良好な企業に対する運用のさらなる緩和を要望する。
E20: ⑮ | F20: 原産地証明書発給機関に対するFTA条文の遵守指導 | G20: 中国からASEANや中南米各国向けにFTAを利用する際、原産地証明書を発給機関から取得するにあたり、発給機関がFTAの条文とは異なる、または条文に記載の無い要求を行うことにより、FTAが利用できない状況やFTAの利用に遅れが生ずる状況が発生している。例えば、中国ASEAN自由貿易協定（ACFTA）では、その施行細則上に、原産地証明書に記載するHSコードを輸入国のHSコードとする旨の規定がある。しかし、輸入国と輸出国である中国のHSコードが異なる品目について、中国各地の原産地証明書発給機関が自国、すなわち中国のHSコードを記載する要求がある。発給機関の要求通りに発給された原産地証明書は、輸入国では条文違反となることから、FTAが利用できない或いは発給機関との交渉に時間を要しFTAの利用に遅れが生じる。各地の原産地証明書発給機関に対し、条文に記載のない要求を行わないよう要望する。
E21: ⑯ | F21: 保税工場から中国国内への輸入に対する運用条件の明確化とルール整備 | G21: 国内保税工場から物流園区等の保税地域を利用し中国国内へ貨物を輸入する場合の運用条件が厳しく、活用できない事態が発生しやすい。具体的には入区（輸出）と出区（輸入）の両者間で「HSコードが同一であること」「申告価格がマイナスではないこと」の両者を満たさない限り、貨物を出区（輸入）させることができないとされている。法令上の根拠が必ずしも明確とは言えない中で、長年そのような運用が続いていると理解しているが、法令根拠を含めた活用条件の明確化と、条件を満たさない場合に例外的に活用を行うためのルール整備を要望する。
E22: ⑰ | F22: 米中貿易摩擦の早期解消 | G22: 米中貿易摩擦の継続により、関税率の複数回にわたる変更や輸出管理規制が事前に十分な周知期間なく実施されていることにより、各種負担の増加が継続している。このことにより、収益の悪化など深刻な影響を受けている企業もあり、早期の問題解決が望まれる。両国政府間で摩擦解消に向けた協議を加速することを要望する。
B24: 第2部 第2章 投資
C25: 大項目 | D25: 中項目 | E25: 番号 | F25: 建議タイトル | G25: 建議内容
C26: 1.公平な競争環境の確保 | E26: ① | F26: 制度運用の透明化 | G26: 外資系企業の対中投資のリスクと見られている不透明な制度運営について、法制度解釈の統一的運用、制度変更の際の十分な準備期間確保、諸手続の簡素化・迅速化、申請・照会に対する文書での回答といった予見可能性等に資する改善を要望する。また、明文化されていない口頭での指導や規制の実施は行わないよう要望する。
E27: ② | F27: 在中国日系企業に対する公平性の確保、および在中国日本人に対する安全性の確保 | G27: 在中国日系企業が、中国社会の構成員として活躍できる、公平な環境の確保を要望する。特に、国家間で政治・外交的な関係が企業活動・文化活動に影響を与えないようにしていただきたい。 中央政府・地方政府・国有企業には、どのような場合でも、日系企業とのコミュニケーションを深め、許認可、調達、生産要素の提供、行政サービス、補助金・税制優遇等において公平な取扱を行っていただきたい。 また、2025年は戦後80周年で、関連する活動や映像作品も多かった。諍いや差別を防ぎ、安全・安心な生活環境が維持されるよう、配慮や対応をお願いしたい。
E28: ③ | F28: 外商投資法および外商投資法実施条例の細則整備 | G28: 外商投資法および外商投資法実施条例が2020年1月より施行され、既存の外商投資企業は2025年1月1日より前に、組織形態や組織機構の調整を完了する必要があるとされるなど、実務上、大きな制度変更に直面した。一方で、実務上の細則等の法令について適宜に十分な整備がされず、企業側に混乱が生じた。今後、細則の整備にあたっては、外商投資法に則り、適時に外国商会や外資企業の意見を聴取し、反映するよう要望する。さらに、外商投資法実施条例の第29条、第30条に規定されている「外商投資企業クレーム申告業務メカニズム」について、実務上適切に運用されるよう要望する。
E29: ④ | F29: 「信頼できないエンティティ・リスト規定」「反外国制裁法」の公平・透明な運用 | G29: 2020年9月施行の「信頼できないエンティティ・リスト規定」について、処罰対象となる行為として提示されている「中国の国家主権、安全、利益の発展への危害」「正常な市場取引原則への違反」や「差別的措置」などが不明確な概念となっている。商務部等の関連部門においての同制度の運用にあたり、下位法令等により、これらの概念をより明確化することを要望する。また、2021年6月施行の「反外国制裁法」についても、2025年3月に実施規定が発表されたものの、制裁対象の認定に関しては引き続き曖昧さを残している。これらは米中摩擦も制定の背景として指摘されるところ、日系企業が米中間の対抗措置や恣意的な運用の対象とならないよう要望する。このほか、手続の透明性や公正性の確保、ならびに日系企業の意見に十分な配慮を要望する。
E30: ⑤ | F30: 「外国の法律および措置の不当な域外適用を阻止する規則」の運用基準明確化 | G30: 2021年1月施行の「外国の法律および措置の不当な域外適用を阻止する規則」について、中国政府が「不当な域外適用の状況にある」と判断した場合は、中国の法人等がその他国の制裁法規等に従うことへの禁止令を発出できるとされている。一方で、「不当な域外適用の状況」といった概念があいまいであり、ビジネス上の予見性の著しい低下につながっている。どのような場合に同規則が適用されるのか等の判断基準を明確にするよう要望する。また、日系企業へ恣意的に適用することのないよう要望する。
E31: ⑥ | F31: 「外商投資安全審査弁法」の対象範囲明確化 | G31: 2021年1月施行の「外商投資安全審査弁法」について、同弁法により、グリーンフィールド投資にまで外商投資の審査範囲が拡大された。かつ、審査範囲について明確な定義がないことから、審査当局に幅広い解釈の余地を残していることが指摘されている。自主申告が必要な範囲とされている「重要インフラ」「重要技術」「重要情報技術およびインターネット製品・サービス」などの範囲につき、いっそうの明確化を要望する。
C32: 2.対外開放の拡大 | E32: ⑦ | F32: 外商投資参入特別管理措置（ネガティブリスト）のさらなる緩和 | G32: 2024年11月1日に施行された「外商投資参入特別管理措置（ネガティブリスト）（2024年版）」では、制限・禁止条項が2020年版の31項目から29項目に減少し、一定の緩和が進んだ。これにより、製造業についてネガティブリスト上の参入規制は撤廃されたことを評価する。引き続き、制限・禁止項目の調整・削減にあたっては、具体的にどのようなケース、業態であれば実際に参入できるのか、解釈や解説、ガイドライン等を併せて示すことによって明確化し、かつ、その内容が行政の各レベルにおいて徹底されるような環境整備や指導を要望する。
E33: ⑧ | F33: 規制緩和に向けた体制整備 | G33: 各種ネガティブリストの改定や、企業が新たな分野への参入を模索する中で、「外商投資参入特別管理措置（ネガティブリスト）（2024年版）」や「市場参入ネガティブリスト（2025年版）」では制限されていないが、他の関連法令によって外資への開放分野が事実上制限されており、参入が難しいといった事例が生じる場合がある。例として、「外商投資参入特別管理措置」において、「インターネットカルチャーに関する商品の経営（音楽を除く）」という表現があり、「音楽を除く」となっていることから、外資がインターネット音楽商品を取り扱う可能性を見出せるが、実際は「ネットワーク出版サービス管理規定（工業情報化部、旧国家新聞出版広電総局）」の存在等により難しいとされる。外商投資法の大きな柱である「参入前の内国民待遇とネガティブリストによる外資投資管理制度」や「外商投資企業への公平な競争環境の確立」の実現にあたり、そういった事例に対応するため、国家発展改革委員会や商務部などに対応窓口を設け、問題の把握を行うとともに関連部門との連携により必要な関連法令の改正を行うことができるよう、体制の整備を要望する。
C34: 3.政府の規制運用・手続の明確化・簡素化 | E34: ⑨ | F34: 公的標準策定プロセスの運営方法統一と透明性・公平性の向上 | G34: 国家標準、業界標準などの公的標準策定プロセスにおいて、例えば会員資格、会員費用などを内資・外資で区別されることが依然として見られるなど、標準工作組によって運営方法が統一されておらず透明性に欠ける。「外商投資企業標準化作業指導意見」が公布され、外商企業と内資企業が標準化活動で同等の待遇を得るとの方針が示されたことは高く評価するが、この方針に則った対応が徹底されるとともに、標準化活動にかかる策定・改定過程は、公開を原則とし、外国企業の標準化技術委員会や標準化策定工作組などへの参加を中国企業と同等の条件とするなど、外資企業の参画も容易にすることで透明性と公平性を高めるよう要望する。また、国家標準の解釈や制度運用による混乱を防ぎ、認証、試験等にかかわる、さらなる手続透明化と合理化を図ることを要望する。
E35: ⑩ | F35: 標準・認証関連情報の適切な開示と公布から実施までの十分な猶予期間の設定 | G35: 強制標準や認証等の実施に当たり、企業に影響を与える規定や内部書簡、解釈、説明会の開催情報と一般的な質疑応答（FAQ）等に関する情報は、会議の開催を通じて内容を伝えるだけではなく、関連するすべての機関・部門のホームページ上に即時かつ正式に公布するよう要望する。また、標準の公布日から実施日まで、十分な猶予期間を取るよう要望する。特に強制標準については、公に誰もが入手可能となった日を起算日として、1年から3年程度の猶予期間を確保するべきである。強制標準の実施に伴って企業が対応措置を取る際に、並列標準が未公布であることにより、強制標準の実施日前に対応が完了できないことがある。強制標準とその並列標準については同時に公布するよう要望する。
E36: ⑪ | F36: 国有資産の譲渡手続の簡素化・明確化 | G36: 国有資産の譲渡手続につき、｢会社法｣「企業国有資産取引監督管理弁法」等に基づき、通常の持分譲渡手続に加え、国有資産譲渡の審査・認可取得、資産評価、公開取引等の一連の手続も必要とされ、実務上で所用期間が相当必要となるため関連手続の簡素化を要望する。また、国有資産譲渡に該当するかの判断基準をより明確にするよう要望する。例として、重大資産の定義の明確化などがある。
E37: ⑫ | F37: 事業再編手続の簡素化 | G37: 市場経済化が進展する中で、競争の活性化を通じて、事業再編を余儀なくされる企業が出ることは自然な流れであり、撤退、分割、合併といった事業再編にかかわる時間的、費用的負担を軽減する制度整備を要望する。2020年1月に施行されたビジネス環境改善条例においても関連する方針が示されているが、税務登記抹消にかかる時間短縮の実現や、登記簡易抹消プロセスにおける関連政府当局間の認識のばらつきの是正などが求められている。こうした措置により、予見可能性が向上し、却って新たな投資をもたらすことや、中国の産業構造の適正化につながることが期待される。
E38: ⑬ | F38: 株式譲渡に関する手続の明確化・簡素化 | G38: 外国企業（非居住者企業）間における中国国内企業の株式譲渡において、株式を売却する外国企業は「企業所得税法」および実施条例、「印紙税法」に基づいて、譲渡完了日から15日以内に譲渡対象企業が所在する地域の税務局に企業所得税および印紙税の納税申告を行う必要がある。実際には中国の代理人を起用して納税申告することが一般的となっているが、この方法であると申告漏れが発生する恐れもある。例えば、譲渡対象企業が株主名簿変更等の手続を行う際に同時に代理申告する仕組みにするなど、中国国内に所在する企業が代理申告、源泉徴収の義務を負うのが望ましいと考えるが、現状は明確な規定がない。企業投資性資産の入替え促進や申告漏れによるコンプライアンスリスク低減の観点から、譲渡や減資等にかかる手続の明確化ならびに簡素化を要望する。
E39: ⑭ | F39: 土地使用許可更新に関する詳細規定の制定 | G39: 土地使用許可について、1990年制定の「都市国有地使用権譲渡および再譲渡暫定施行条例」において、工業用地の最長使用期限は50年と定められている。同時に、現地政府からの要求で同条例にて規定された最長期限よりも短い期間での土地使用契約が求められた場合もあり、90年代に中国に進出した日系企業の中には、土地使用期限が近付いている企業も現れている。一方で、土地使用期限の更新にあたり、必要な手続や費用などの詳細について、国による統一的な基準が定められていない。近い将来多くの企業が土地使用契約の更新時期を迎えることが予想されており、混乱を避けるために、早期の詳細規定の制定を要望する。
E40: ⑮ | F40: 外国人の法定代表者によるオンライン手続 | G40: 法定代表者が外国人である外資企業は数多く存在する。外国人が法定代表者の場合、実名認証のための顔認証によるオンライン上の操作ができないケースがある。このため、董事変更、経営範囲変更等企業登録および届出手続を申請する際に、法定代表者本人が窓口で手続を行うか、もしくは授権委託書にて代理人が対応することが必要になるため、企業登録および届出手続の簡素化を要望する。なお、法定代表者が海外にいる場合は海外で関連法的文書を署名した上で送付する必要もあり、手続上の負担が生じている。各地の市場監督管理部門においてシステムを改善し、外国人が法定代表者であっても、オンライン上での手続に支障が出ないことを要望する。
E41: ⑯ | F41: 政府関連対外部署の対応窓口指定 | G41: 外資企業の企業運営においては、国内企業と比較して外国人・海外株主などの特殊要因が国内企業よりも多い。円滑な企業運営のために、事前に市場監督管理局や税務局などに問い合わせることが多いが、当局の運営は受付窓口制となっている。そのため、同一の問い合わせ内容について、異なる受付窓口から異なる指摘・回答を受領するといったケースが散見される。受付窓口制の背景が人員配置の効率化であることは理解するが、問い合わせを行う側の企業にとっては必ずしも適切な回答を受けられない場合がある。以上の背景から、外資企業の問い合わせに対しては対応窓口の指定を要望する。
C42: 4.情報公開の推進 | E42: ⑰ | F42: 連続的・継続的な統計・調査データの発表 | G42: 国家統計局発表のデータにつき、2023年から固定資産投資額について統計範囲が変更され、前年の数値との連続性がなくなっている。また、16～24歳の都市部調査失業率は2023年6月分を最後に発表が停止され、2024年1月に新たな定義のもとに発表が再開された。統計・調査データをより実態に即したものにするための制度変更の必要性は理解できる一方、投資判断にあたりデータの連続性・継続性は極めて重要なものである。政府機関による統計・調査データは可能な限り継続して発表し、定義を変更する場合は可能な限り過去にさかのぼって既存のデータを改訂するなどの対応を要望する。
...

Sheet 【参考】2025年 建議一覧
B1: 2025年版白書 建議一覧 | G1: 色がついているセルはエグゼクティブサマリーに掲載した建議になります。
C2: 大項目 | D2: 中項目 | E2: 番号 | F2: 建議タイトル | G2: 建議内容
B4: 第2部 第１章 貿易
C5: 大項目 | D5: 中項目 | E5: 番号 | F5: 建議タイトル | G5: 建議内容
E6: ① | F6: 輸出許可申請の円滑化・迅速化 | G6: 2023年より順次実施された、ガリウム・ゲルマニウム関連品目ならびに一部黒鉛品目、2024年9月より実施された一部のアンチモンと超硬材料の関連品目、2025年2月・4月より実施された各種レアメタルに対する輸出許可申請において、申請が遅滞するケースが発生している。これら資源は中国が世界における主要生産・輸出国であり、サプライチェーンの構築において重要な役割を担っている。申請手続の円滑化ならびに認可所要時間の短縮を強く要望する。
E7: ② | F7: 輸出管理法の関連細則や管理品目の公表および国際標準に則した運用 | G7: 「輸出管理法」が2020年12月1日より施行された。2024年10月に「両用品目輸出管理条例」が公布され、同12月1日に「輸出管理法」および「両用品目輸出管理条例」に付随する「両用品目輸出管理リスト」が施行された。輸出管理関連法令について整備が進められているが、日系企業にとって依然として事業運営上の不透明性が存在する。管理品目等の関連細則の整備、解釈の統一的運用を進め、その内容や運用が国際標準から乖離しないよう要望する。さらに、順次公表した情報は整理のうえ解説を要望する。また、同法における輸出許可の要否に関する基準が明確となっておらず、許可が必要な場合は申請から許可取得まで最大45日間を要する。許可の要否に関する基準を明確化するとともに、許可申請から許可取得までに要する時間の短縮を要望する。また、「輸出管理法」では「再輸出」「みなし輸出」「法の域外適用による責任追及」などが定められているが、これらがどのように運用されるかが不透明である。これらは、運用の如何により、業界や企業のサプライチェーンを含めた既存のビジネスモデルへ大きな影響を与えるものであり、既存ビジネスの予見性の著しい低下および、新規投資を抑制する大きな要因となりえる。これらについて、早急に下位法令で明確化するとともに、その運用にあたっては日系企業を含む外資企業の意見も十分に踏まえるよう要望する。
E8: ③ | F8: 塩化チオニルを一定量含むリチウム電池の輸入許可制度の撤廃 | G8: 化学物質である塩化チオニルを一定量含むリチウム電池の中国への輸入が、「輸出管理法」および「両用品目輸出管理条例」を根拠に許可制となっていることが判明した。税関によっては過去に遡り輸入実績を報告させ、許可有無に基づき処罰を科す事例もある。当該許可制度に関しては、情報の公開が乏しく、企業は輸入許可取得のため多くの負担を強いられている。電池に係る国際安全規格（国連勧告テスト：UNManualofTestsandCriteria7thRevisedEdition,PartIII,sub-section38.3）に準拠していること、輸入品目は「電池」であり化学品本体を規制するような運用を当てはめるケースは国際的に見て本件以外にないことを鑑み、本輸入規制の撤廃を要望する。
E9: ④ | F9: 関連規制・制度の情報開示時期および具体的実施方法の事前通知化 | G9: 通関に関する規制・制度の変更が直前に周知されるケースがある。WCO（世界税関機構）改正「京都規約」の一般付属書第9章では、税関はすべての利害関係者が関連情報を容易に入手できるようにすること、変更が発生した際には事前に十分な余裕を持って情報を入手できるようにすることを規定している。ついては、海関総署などの関連部門に対し、通関に伴う規制・制度の変更を実施する場合には、十分な準備期間を確保するとともに、文書で事前に税関ホームページに掲載するなど情報開示時期および具体的実施方法について配慮するよう要望する。
E10: ⑤ | F10: 税関規則・規定に対する解釈の統一および統一的運用の強化 | G10: 同一製品のHS番号や原産地証明など輸出入申告に関する税関審査および保税区、物流園区または保税港区の運用や規則、規定に対する解釈が、地域や担当者により異なるケースがある。通関一体化の推進に伴い改善が見られる部分もあるが、税関総署等の関連部門に対して、窓口人員等への研修の強化やより詳細なマニュアルの整備などにより全国で統一的な運用を行うよう要望する。また、税関内での情報共有が全国統一的な運用の実効性を高めるため、税関間の調整機能の強化を要望する。
E11: ⑥ | F11: HS番号対象品目の詳細解釈資料の公開 | G11: HS番号の対象品目を詳細に解釈した資料の公開を要望する。また、入港、接岸、荷役許可時の必要書類、所要時間も可能な限りの統一を要望する。また、これらに関連する政府発行のオペレーションマニュアルの適時適切な更新を要望する。
E12: ⑦ | F12: HSコード修正時の提出資料確認の迅速化、および適切な修正期間の設定 | G12: 税関調査でHSコードの違いを指摘され、関連資料・説明書を提出したものの、2カ月以上回答を得られないケースがあった。また、税関担当者の交代により、従来用いていたHSコードではなく別のHSコードへの修正指摘が入り、修正機会なく即時処罰が課されたケースもあった。その他には、HSコードの違いを過去数10年に遡り処罰を行うとした指摘も発生している。HSコードの修正に関しては、提出資料の確認の迅速化ならびにその回答期限の提示、適切な修正機会の設定を要望する。
E13: ⑧ | F13: 保税工場間にてHSコードが異なる際の内陸輸送取り扱い | G13: 自社中国工場と中国顧客が登録している同一製品（部品）に対するHSコードが異なる場合、中国内で同製品（部品）の保税工場間の移動ができないため、一度香港・日本等へ輸出し、再輸入している。EU内やマレーシアと同様に、保税工場間は双方のHSコードが異なる場合でも、内陸輸送ができるよう改善を要望する。
E14: ⑨ | F14: 通関所要時間の調査およびその公表、商品検査リードタイムの短縮 | G14: 「WTO貿易円滑化協定」第7条では努力規定として所要時間調査（TRS）を定期的に実施し公表するように求めている。各税関の通関所要時間を可視化することにより、通関効率化への取り組み向上にもつながるため、税関ごとの通関所要時間を調査し公表するよう要望する。また、上記で収集したデータに基づき、引き続き通関、商品検査にかかわるリードタイムの短縮に取り組むよう要望する。
E15: ⑩ | F15: 通関申告地と検査検疫組織間の連携強化、通関申告地での法定検査受検の取り扱い | G15: 輸入商品の法定検査について、「輸出入商品検査法実施条例」第16条に基づき通関申告地の出入境検験検疫機構へ検査申請することになっており、且つ同条例第18条により目的地での検査を受けなければならないが、通関申告地と目的地の検査検疫組織間で申請情報の連絡がうまくできておらず、検査まで非常に時間を要したケースがあった。海関総署等の関連部門に対して、通関申告地においても法定検査を受検できるよう要望する。併せて商品検査検疫の迅速化、手続の簡素化を早期に実現し、同一港湾のみならず全国で検疫一体化を実施するよう要望する。
E16: ⑪ | F16: 通関後の輸出入申告事項の修正の可否明確化、自主的な修正申告が認められる事例の提示 | G16: 「税関輸出入貨物通関申告書修正および取消管理弁法」第7条により、修正事由が通関業者に起因する場合は申告事項を修正できるが、それ以外の中国輸入者や海外輸出者等に起因する場合については修正の可否が規定されておらず、修正が認められない場合が多い。海関総署等の関連部門に対して、通関後の輸出入申告事項の修正の可否を明確にするとともに、FAQ等にて自主的な修正申告が認められる事例の提示を要望する。
E17: ⑫ | F17: 貨物貿易の外貨支払業務における規制緩和の継続 | G17: 2012年貨物貿易改革が行われ、対外支払時に通関データとの照合作業が不要となり、貿易決済の利便性が高まった。一方、貨物貿易にかかる外貨支払業務を行う際には、原則、輸入通関情報を照会する運用がなされており、その結果通関手続が終了するまで外貨支払ができず、支払が遅れる事象が依然として起きている。また三国間貿易決済に関する規制は緩和されているものの、適用対象は限定的なものにとどまる。規制緩和の継続、会社規模にかかわらず信用良好な企業に対する運用のさらなる緩和を要望する。
... E24: ⑲ | F24: 米中貿易摩擦の早期解消 | G24: 米中貿易摩擦の継続により、関税率の複数回にわたる引き上げが事前に十分な周知期間なく実施されていることにより、関税の引き上げに伴う負担の増加が継続している。このことにより、収益の悪化など深刻な影響を受けている企業もあり、早期の問題解決が望まれる。両国政府間で摩擦解消に向けた協議を加速することを要望する。
B26: 第2部 第2章 投資
C27: 大項目 | D27: 中項目 | E27: 番号 | F27: 建議タイトル | G27: 建議内容
C28: 1.公平な競争環境の確保 | E28: ① | F28: 外商投資法および外商投資法実施条例の細則整備 | G28: 外商投資法および外商投資法実施条例が2020年1月より施行され、既存の外商投資企業は2025年1月1日より前に、組織形態や組織機構の調整を完了する必要があるとされるなど、実務上、大きな制度変更に直面した。一方で、実務上の細則等の法令について適宜に十分な整備がされず、企業側に混乱が生じた。今後、細則の整備にあたっては、外商投資法に則り、適時に外国商会や外資企業の意見を聴取し、反映するよう要望する。さらに、外商投資法実施条例の第29条、第30条に規定されている「外商投資企業クレーム申告業務メカニズム」について、実務上適切に運用されるよう要望する。
E29: ② | F29: 制度運用の透明化 | G29: 外資系企業の対中投資のリスクと見られている不透明な制度運営について、法制度解釈の統一的運用、制度変更の際の十分な準備期間確保、諸手続の簡素化・迅速化、申請・照会に対する文書での回答といった予見可能性等に資する改善を要望する。また、明文化されていない口頭での指導や規制の実施は行わないよう要望する。
E30: ③ | F30: 「信頼できないエンティティ・リスト規定」の公平・透明な運用 | G30: 2020年9月施行の「信頼できないエンティティ・リスト規定」について、処罰対象となる行為として提示されている「中国の国家主権、安全、利益の発展への危害」「正常な市場取引原則への違反」や「差別的措置」などが不明確な概念となっている。商務部等の関連部門においての同制度の運用にあたり、下位法令等により、これらの概念をより明確化することを要望する。また、同規定は米中摩擦も制定の背景として指摘されるところ、日系企業が米中間の対抗措置や恣意的な運用の対象とならないよう要望する。このほか、手続の透明性や公正性の確保、ならびに日系企業の意見に十分な配慮を要望する。
E31: ④ | F31: 「外国の法律および措置の不当な域外適用を阻止する規則」の運用基準明確化 | G31: 2021年1月施行の「外国の法律および措置の不当な域外適用を阻止する規則」について、中国政府が「不当な域外適用の状況にある」と判断した場合は、中国の法人等がその他国の制裁法規等に従うことへの禁止令を発出できるとされている。一方で、「不当な域外適用の状況」といった概念があいまいであり、ビジネス上の予見性の著しい低下につながっている。どのような場合に同規則が適用されるのか等の判断基準を明確にするよう要望する。また、日系企業へ恣意的に適用することのないよう要望する。
E32: ⑤ | F32: 「外商投資安全審査弁法」の対象範囲明確化 | G32: 2021年1月施行の「外商投資安全審査弁法」について、同弁法により、グリーンフィールド投資にまで外商投資の審査範囲が拡大された。且つ、審査範囲について明確な定義がないことから、審査当局に幅広い解釈の余地を残していることが指摘されている。自主申告が必要な範囲とされている「重要インフラ」「重要技術」「重要情報技術およびインターネット製品・サービス」などの範囲につき、いっそうの明確化を要望する。
C33: 2.対外開放の拡大 | E33: ⑥ | F33: 外商投資参入特別管理措置（ネガティブリスト）のさらなる緩和 | G33: 2024年11月1日に施行された「外商投資参入特別管理措置（ネガティブリスト）（2024年版）」では、制限・禁止条項が2020年版の31項目から29項目に減少し、一定の緩和が進んだ。これにより、製造業についてネガティブリスト上の参入規制は撤廃されたことを評価する。引き続き、制限・禁止項目の調整・削減にあたっては、具体的にどのようなケース、業態であれば実際に参入できるのか、解釈や解説、ガイドライン等を併せて示すことによって明確化し、且つ、その内容が行政の各レベルにおいて徹底されるような環境整備や指導を要望する。
E34: ⑦ | F34: ネガティブリスト以外の法律・法規による参入規制の緩和 | G34: 2024年11月施行の「外商投資参入特別管理措置（ネガティブリスト）（2024年版）」において、「インターネットカルチャーに関する商品の経営（音楽を除く）」という表現があり、「音楽を除く」となっていることから、外資がインターネット音楽商品を取り扱う可能性を見出せるが、実際は「ネットワーク出版サービス管理規定（工業情報化部、旧国家新聞出版広電総局）」の存在等により難しいとされる。ネガティブリストを掌握する国家発展改革委員会および商務部と、同規定を掌握する工業情報化部等に対し、「外商投資参入特別管理措置（ネガティブリスト）」に合わせ、「ネットワーク出版サービス管理規定」を改正し、外資企業でも、インターネットでの音楽分野のサービスを運営できるよう要望する。
E35: ⑧ | F35: 規制緩和に向けた体制整備 | G35: 各種ネガティブリストの改定や、企業が新たな分野への参入を模索する中で、上記⑦のように「外商投資参入特別管理措置（ネガティブリスト）（2024年版）」や「市場参入ネガティブリスト（2022年版）」では制限されていないが、他の関連法令によって外資への開放分野が事実上制限されており、参入が難しいといった事例が生じる場合がある。外商投資法の大きな柱である「参入前の内国民待遇とネガティブリストによる外資投資管理制度」や「外商投資企業への公平な競争環境の確立」の実現にあたり、そういった事例に対応するため、国家発展改革委員会や商務部などに対応窓口を設け、問題の把握を行うとともに関連部門との連携により必要な関連法令の改正を行うことができるよう、体制の整備を要望する。
C36: 3.政府の規制運用・手続の明確化・簡素化 | E36: ⑨ | F36: 公的標準策定プロセスの運営方法統一と透明性・公平性の向上 | G36: 国家標準、業界標準などの公的標準策定プロセスにおいて、例えば会員資格、会員費用などを内資・外資で区別されることが依然見られるなど、標準工作組によって運営方法が統一されておらず透明性に欠ける。「外商投資企業標準化作業指導意見」が公布され外商企業と内資企業が標準化活動で同等の待遇を得るとの方針が示されたことは高く評価するが、この方針に則った対応が徹底されるとともに、標準化活動にかかる策定・改定過程は、公開を原則とし、外国企業の標準化技術委員会や標準化策定工作組などへの参加を中国企業と同等の条件とするなど、外資企業の参画も容易にすることで透明性と公平性を高めるよう要望する。また、国家標準の解釈や制度運用による混乱を防ぎ、認証、試験等にかかわる、さらなる手続透明化と合理化を図ることを要望する。
E37: ⑩ | F37: 標準・認証関連情報の適切な開示と公布から実施までの十分な猶予期間の設定 | G37: 強制標準や認証等の実施に当たり、企業に影響を与える規定や内部書簡、解釈、説明会の開催情報と一般的な質疑応答（FAQ）等に関する情報は、会議の開催を通じて内容を伝えるだけではなく、関連するすべての機関・部門のホームページ上に即時且つ正式に公布するよう要望する。また、標準の公布日から実施日まで、十分な猶予期間を取るよう要望する。特に強制標準については、公に誰もが入手可能となった日を起算日として、1年から3年程度の猶予期間を確保するべきである。強制標準の実施に伴って企業が対応措置を取る際に、並列標準が未公布であることにより、強制標準の実施日前に対応が完了できないことがある。強制標準とその並列標準については同時に公布するよう要望する。
E38: ⑪ | F38: 国有資産の譲渡手続の簡素化・明確化 | G38: 国有資産の譲渡手続につき、｢会社法｣「企業国有資産取引監督管理弁法」等に基づき、通常の持分譲渡手続に加え、国有資産譲渡の審査・認可取得、資産評価、公開取引等の一連の手続も必要とされ、実務上で所用期間が相当必要となるため関連手続の簡素化を要望する。また、国有資産譲渡に該当するかの判断基準をより明確にするよう要望する（例えば、重大資産の定義の明確化など）。
E39: ⑫ | F39: 事業再編手続の簡素化 | G39: 市場経済化が進展する中で、競争の活性化を通じて、事業再編を余儀なくされる企業が出ることは自然な流れであり、撤退、分割、合併といった事業再編にかかわる時間的、費用的負担を軽減する制度整備を要望する。2020年1月に施行されたビジネス環境改善条例においても関連する方針が示されているが、税務登記抹消にかかる時間短縮の実現や、登記簡易抹消プロセスにおける関連政府当局間の認識のばらつきの是正などが求められている。こうした措置により、予見可能性が向上し、却って新たな投資をもたらすことや、中国の産業構造の適正化につながることが期待される。
E40: ⑬ | F40: 株式譲渡に関する手続の明確化・簡素化 | G40: 外国企業（非居住者企業）間における中国国内企業の株式譲渡において、株式を売却する外国企業は「企業所得税法」および実施条例、「印紙税法」に基づいて、譲渡完了日から15日以内に譲渡対象企業が所在する地域の税務局に企業所得税および印紙税の納税申告を行う必要がある。実際には中国の代理人を起用して納税申告することが一般的となっているが、この方法であると申告漏れが発生する恐れもある。例えば、譲渡対象企業が株主名簿変更等の手続を行う際に同時に代理申告する仕組みにするなど、中国国内に所在する企業が代理申告、源泉徴収の義務を負うのが望ましいと考えるが、現状は明確な規定がない。企業投資性資産の入替え促進や申告漏れによるコンプライアンスリスク低減の観点から、譲渡や減資等にかかる手続の明確化ならびに簡素化を要望する。
E41: ⑭ | F41: 土地使用許可更新に関する詳細規定の制定 | G41: 土地使用許可について、1990年制定の「都市国有地使用権譲渡および再譲渡暫定施行条例」において工業用地の最長使用期限は50年と定められている。同時に、現地政府からの要求で同条例にて規定された最長期限よりも短い期間での土地使用契約が求められた場合もあり、90年代に中国に進出した日系企業の中には、土地使用期限が近付いている企業も現れている。一方で、土地使用期限の更新にあたり、必要な手続や費用などの詳細について、国による統一的な基準が定められていない。近い将来多くの企業が土地使用契約の更新時期を迎えることが予想されており、混乱を避けるために、早期の詳細規定の制定を要望する。
E42: ⑮ | F42: 外国人の法定代表者によるオンライン手続 | G42: 法定代表者が外国人である外資企業は数多く存在する。外国人が法定代表者の場合、実名認証のための顔認証によるオンライン上の操作ができないケースがある。このため、董事変更、経営範囲変更等企業登録および届出手続を申請する際に、法定代表者本人が窓口で手続を行うか、もしくは授権委託書にて代理人が対応することが必要になるため、企業登録および届出手続の簡素化を要望する。なお、法定代表者が海外にいる場合は海外で関連法的文書を署名した上で送付する必要もあり手続上の負担が生じている。各地の市場監督管理部門においてシステムを改善し、外国人が法定代表者であっても、オンライン上での手続に支障が出ないことを要望する。
C43: 4.情報公開の推進 | E43: ⑯ | F43: 連続的・継続的な統計・調査データの発表 | G43: 国家統計局発表のデータにつき、2023年から固定資産投資額について統計範囲が変更され、前年の数値との連続性がなくなっている。また、16～24歳の都市部調査失業率は2023年6月分を最後に発表が停止され、2024年1月に新たな定義のもとに発表が再開された。中国人民銀行による都市部預金者・銀行・企業家を対象としたアンケート調査は、2023年第2四半期を最後に発表が停止され、2024年3月になり未発表分がまとめて発表されたが、現在では再度発表が滞っている。統計・調査データをより実態に即したものにするための制度変更の必要性は理解できる一方、投資判断にあたりデータの連続性・継続性は極めて重要なものである。政府機関による統計・調査データは可能な限り継続して発表し、定義を変更する場合は可能な限り過去にさかのぼって既存のデータを改訂するなどの対応を要望する。
E44: ⑰ | F44: 企業支援策の統一的な情報提供 | G44: 中央および地方政府は、産業振興のための各種の企業支援制度を定めており、多くの場合外資系企業も対象となっていることを高く評価する。一方で国、省、地級市など複数の行政レベルで、複数の行政部門がそれぞれ制度を定めているため、外資系企業にとって、自身が利用できる支援策の把握が難しくなっている。統一的に全国の企業支援制度が一覧できるような情報提供を要望する。
B46: 第2部 第3章 競争法
C47: 大項目 | D47: 中項目 | E47: 番号 | F47: 建議タイトル | G47: 建議内容
C48: 1.中国における競争法関連法令の全般について | E48: ① | F48: 「独占禁止法」に基づく関連の実施細則と運用ガイドラインの改正の早期完了 | G48: 数多くの独占禁止法関連規定およびガイドラインが2024年に相次いで公布された。中国の独占禁止法制度は益々整備されてきており、この点については評価することができる。一方、その他の一部の関連実施細則や運用ガイドラインの面においては、なおも相応に改正されてはいない。未改正の関連実施細則と運用ガイドラインの改正も、早期に完了し、公布していただくよう要望する。
E49: ② | F49: 加重処罰適用要件と処罰確定基準の明確化 | G49: 改正された「独占禁止法」には2倍から5倍までの加重処罰制度が導入されている。しかし、この加重処罰の適用要件となる「本法に違反し、情状が特別に深刻で、影響が特別に劣悪であり、特別に深刻な結果がもたらされた状況」および処罰確定の基準については、詳細なガイドライン等の公布による明確化が行われていないことから、これらを明確化していただくよう要望する。
...

Sheet 【参考】2024年 建議一覧
B1: 2024年版白書 建議一覧 | G1: 色がついているセルはエグゼクティブサマリーに掲載した建議になります。
C2: 大項目 | D2: 中項目 | E2: 番号 | F2: 建議項目タイトル | G2: 建議内容
B4: 第2部 第１章 貿易
C5: 大項目 | D5: 中項目 | E5: 番号 | F5: 建議項目タイトル | G5: 建議内容
E6: ① | F6: 輸出管理法の関連細則や管理品目の公表および国際標準に則した運用 | G6: 2020年12月1日より輸出管理法が施行されているが、同法については依然として不明確な規制対象があり、日系企業にとって事業運営上の不透明性が存在する。関連細則や管理品目等を早期に整備し公表すること、その内容や運用が国際標準から乖離しないよう要望する。また、同法における輸出許可の要否に関する基準が明確となっておらず、許可が必要な場合は申請から許可取得まで最大45日間を要する。許可の要否に関する基準を明確化するとともに、許可申請から許可取得までに要する時間の短縮を要望する。
E7: ② | F7: ガリウム・ゲルマニウム、黒鉛に対する輸出許可申請の円滑化・迅速化 | G7: 2023年より順次実施された、ガリウム・ゲルマニウム関連品目ならびに一部黒鉛品目の輸出許可申請において、申請が停滞するケースが発生している。これら資源は中国が世界における主要生産・輸出国であり、サプライチェーンの構築において重要な役割を担っている。申請手続の円滑化ならびに認可所用時間の短縮を要望する。
E8: ③ | F8: 関連規制・制度の情報開示時期および具体的実施方法の事前通知化 | G8: 通関に関する規制・制度の変更が直前に周知されるケースがある。WCO（世界税関機構）改正京都規約の一般付属書第9章では、税関はすべての利害関係者が関連情報を容易に入手できるようにすること、変更が発生した際には事前に十分な余裕を持って情報を入手できるようにすることを規定している。ついては、海関総署などの関連部門に対し、通関に伴う規制・制度の変更を実施する場合には、十分な準備期間を確保するとともに、文書で事前に税関ホームページに掲載するなど情報開示時期および具体的実施方法について配慮するよう要望する。
E9: ④ | F9: 税関規則・規定に対する解釈の統一および統一的運用の強化 | G9: 同一製品のHS番号や原産地証明など輸出入申告に関する税関審査および保税区、物流園区または保税港区の運用や規則、規定に対する解釈が、地域や担当者により異なるケースがある。通関一体化の推進に伴い改善が見られる部分もあるが、海関総署等の関連部門に対して、窓口人員等への研修の強化やより詳細なマニュアルの整備などにより全国で統一的な運用を行うよう要望する。また、全国統一的な運用の実効性を高めるため、税関間の調整機能の強化を要望する。
E10: ⑤ | F10: 税関による事前裁定決定書交付までの期間短縮やルールの簡素化、事前教示制度の改善 | G10: 税関総署262号「税関事前裁定管理暫定弁法」により事前教示制度が明確化されている。また、2019年に新たな分類申請規定が公布され、税関へのHSコードの事前教示は輸入3カ月前に申請を提出しなければならず、加えて売買契約の締結が前提となっている。申告を行う企業と税関との認識の不一致をいっそう低減させ、通関の円滑化をさらに進めるためにも、税関による事前裁定決定書交付までの期間短縮やルールの簡素化を要望するとともに、税関に対して簡易的かつ短期間で参考意見を求められるように事前教示制度を改善いただくよう要望する。
E11: ⑥ | F11: HSコード修正時提出資料確認の迅速化および提出時に回答期限目安の提示 | G11: 税関の事後調査でHSコードの違いを指摘され、関連資料・説明書を提出したものの、2カ月以上回答を得られないケースが発生している。できるだけ早いタイミングで回答をいただくよう要望する。また、提出後の回答期限の目安を示していただくよう要望する。
E12: ⑦ | F12: 通関所要時間の調査およびその公表、商品検査リードタイムの短縮 | G12: WTO貿易円滑化協定第7条では努力規定として所要時間調査（TRS）を定期的に実施し公表するように求めている。各税関の通関所要時間を可視化することにより、通関効率化への取り組み向上にもつながるため、税関ごとの通関所要時間を調査し公表するよう要望する。また、上記で収集したデータに基づき、引き続き通関、商品検査にかかわるリードタイムの短縮に取り組むよう要望する。
E13: ⑧ | F13: 通関申告地と検査検疫組織間の連携強化、通関申告地での法定検査受検の取り扱い | G13: 輸入商品の法定検査について、「輸出入商品検査法実施条例」第16条に基づき通関申告地の出入境検験検疫機構へ検査申請することになっており、かつ同条例第18条により目的地での検査を受けなければならないが、通関申告地と目的地の検査検疫組織間で申請情報の連絡がうまくできておらず、検査まで非常に時間を要したケースがあった。海関総署等の関連部門に対して、通関申告地においても法定検査を受検できるよう要望する。併せて商品検査検疫の迅速化、手続の簡素化、通関・検疫のペーパーレス化を早期に実現し、同一港湾のみならず全国で検疫一体化を実施するよう要望する。
E14: ⑨ | F14: HS番号対象品目の詳細解釈資料の公開 | G14: HS番号の対象品目を詳細に解釈した資料の公開を要望する。また、入港、接岸、荷役許可時の必要書類、所要時間も可能な限りの統一を要望する。また、政府から発行されているオペレーションマニュアルに誤植があったために通関手続が滞るという事例があった。こうしたマニュアルは実務上非常に重要であるため誤植等が発生しないよう改善を要望する。また、誤植や誤記載等が明らかになった場合には、実務上のトラブルが生じないようすみやかにその旨を公表し、かつ現場の通関担当者にも伝達することを要望する。
E15: ⑩ | F15: 通関後の輸出入申告事項の修正の可否明確化、自主的な修正申告が認められる事例の提示 | G15: 「税関輸出入貨物通関申告書修正および取消管理弁法」第7条により、修正事由が通関業者に起因する場合は申告事項を修正できるが、それ以外の中国輸入者や海外輸出者等に起因する場合については修正の可否が規定されておらず、修正が認められない場合が多い。海関総署等の関連部門に対して、通関後の輸出入申告事項の修正の可否を明確にするとともに、FAQ等にて自主的な修正申告が認められる事例の提示を要望する。
E16: ⑪ | F16: 貨物貿易の外貨支払業務における規制緩和の継続 | G16: 2012年貨物貿易改革が行われ、対外支払時に通関データとの照合作業が不要となり、貿易決済の利便性が高まった。一方、貨物貿易にかかる外貨支払業務を行う際には、原則、輸入通関情報を照会する運用がなされており、その結果通関手続が終了するまで外貨支払ができず、支払が遅れる事象が起きている。また三国間貿易決済に関する規制は緩和されているものの、適用対象は限定的なものにとどまる。規制緩和の継続、会社規模にかかわらず信用良好な企業に対する運用のさらなる緩和を要望する。
E17: ⑫ | F17: サービス貿易における課税要否や課税価格判断根拠の明確な提示 | G17: 近年、税関によるロイヤルティ支払いや特殊関係間の取引価格にかかわる調査が強化されている。しかし、個々の案件について、税関からどのような根拠・基準に基づいて課税の必要性や価格の妥当性を判断しているかの情報が企業に十分に開示されていない。また、企業の主張および説明に対して税関が同意しない場合、その理由を明確にせず、企業に主張を立証するように一方的に求める事例がある。企業の対応負担を減らすため、海関総署から各地税関に対して、課税の要否や課税価格の判断根拠を明確に提示するよう指導することを要望する。
... E24: ⑲ | F24: 米中貿易摩擦の早期解消 | G24: 米中貿易摩擦の継続により、関税率の複数回にわたる引き上げが事前に十分な周知期間なく実施されていることにより、関税の引き上げに伴う負担の増加が継続している。このことにより、収益の悪化など深刻な影響を受けている企業もあり、早期の問題解決が望まれる。両国政府間で摩擦解消に向けた協議を加速することを要望する。また、昨今の香港をめぐる米中間の問題は、中国に拠点をおきグローバルでの活動を展開する企業各社にとって深刻な問題であり、香港がグローバル貿易におけるハブ機能をしっかり堅持し、安定的で予測可能な位置づけを堅持することを要望する。
B26: 第2部 第2章 投資
C27: 大項目 | D27: 中項目 | E27: 番号 | F27: 建議項目タイトル/要約 | G27: 建議内容
C28: 1.公平な競争環境の確保 | E28: ① | F28: 外商投資法および外商投資法実施条例の細則整備 | G28: 外商投資法および外商投資法実施条例が2020年1月より施行された。既存の外商投資企業は2025年1月1日より前に、組織形態や組織機構の調整を完了する必要があるとされるなど、実務上、大きな制度変更に直面することになる。一方で、こういった個別の変更に対する実務上の細則等の法令が十分に整備されていない。国家市場監督管理総局、商務部、国家発展改革委員会など関係機関に対して、実効性のある相応の関連法令が迅速かつ明確に制定されることを要望する。また、細則の整備にあたっては、外商投資法に則り、外国商会や外資企業の意見を聴取し、反映するよう要望する。さらに、外商投資法実施条例の第29条、第30条に規定されている「外商投資企業クレーム申告業務メカニズム」について、実務上適切に運用されるよう要望する。
E29: ② | F29: 制度運用の透明化 | G29: 外資系企業の対中投資のリスクと見られている不透明な制度運営について、法制度解釈の統一的運用、制度変更の際の十分な準備期間確保、諸手続の簡素化・迅速化、申請・照会に対する文書での回答といった予見可能性等に資する改善を要望する。また、明文化されていない口頭での指導や規制の実施は行わないよう要望する。
E30: ③ | F30: 「信頼できないエンティティ・リスト規定」の公平・透明な運用 | G30: 2020年9月施行の「信頼できないエンティティ・リスト規定」について、処罰対象となる行為として提示されている「中国の国家主権、安全、利益の発展への危害」「正常な市場取引原則への違反」や「差別的措置」などが不明確な概念となっている。商務部等の関連部門においての同制度の運用にあたり、下位法令等により、これらの概念をより明確化することを要望する。また、同規定は米中摩擦も制定の背景として指摘されるところ、日系企業が米中間の対抗措置や恣意的な運用の対象とならないよう要望する。このほか、手続の透明性や公正性の確保、ならびに日系企業の意見に十分な配慮を要望する。
E31: ④ | F31: 「輸出管理法」の公平・透明な運用 | G31: 2020年施行の「輸出管理法」について、「再輸出」「みなし輸出」「法の域外適用による責任追及」などが定められているが、これらがどのように運用されるかが不透明である。これらは、運用の如何により、業界や企業のサプライチェーンを含めた既存のビジネスモデルへ大きな影響を与えるものであり、既存ビジネスの予見性の著しい低下および、新規投資を抑制する大きな要因となりえる。これらについて、早急に下位法令で明確化するとともに、その運用にあたっては日系企業を含む外資企業の意見も十分に踏まえるよう要望する。
E32: ⑤ | F32: 「外国の法律および措置の不当な域外適用を阻止する規則」の運用基準明確化 | G32: 2021年1月施行の「外国の法律および措置の不当な域外適用を阻止する規則」について、中国政府が「不当な域外適用の状況にある」と判断した場合は、中国の法人等がその他国の制裁法規等に従うことへの禁止令を発出できるとされている。一方で、「不当な域外適用の状況」といった概念があいまいであり、ビジネス上の予見性の著しい低下につながっている。どのような場合に同規則が適用されるのか等の判断基準を明確にするよう要望する。また、日系企業へ恣意的に適用することのないよう要望する。
E33: ⑥ | F33: 「外商投資安全審査弁法」の対象範囲明確化 | G33: 2021年1月施行の「外商投資安全審査弁法」について、同弁法により、グリーンフィールド投資にまで外商投資の審査範囲が拡大された。かつ、審査範囲について明確な定義がないことから、審査当局に幅広い解釈の余地を残していることが指摘されている。自主申告が必要な範囲とされている「重要インフラ」「重要技術」「重要情報技術およびインターネット製品・サービス」などの範囲につき、いっそうの明確化を要望する。
C34: 2.対外開放の拡大 | E34: ⑦ | F34: 外商投資参入特別管理措置（ネガティブリスト）のさらなる緩和 | G34: 2022年1月1日に施行された「外商投資参入特別管理措置（ネガティブリスト）（2021年版）」では、制限・禁止条項が2020年版の33項目から31項目に減少し、一定の緩和が進んだことを評価する。また、2023年10月の「一帯一路」国際協力ハイレベルフォーラムにおいて習近平国家主席が製造業における外資規制の全面的撤廃に言及したことを歓迎するとともに、早期の規制撤廃の実現を要望する。制限・禁止項目の調整・削減にあたっては、具体的にどのようなケース、業態であれば実際に参入できるのか、解釈や解説、ガイドライン等を併せて示すことによって明確化し、かつ、その内容が行政の各レベルにおいて徹底されるような環境整備や指導を要望する。
E35: ⑧ | F35: ネガティブリスト以外の法律・法規による参入規制の緩和 | G35: 2022年1月施行の「外商投資参入特別管理措置（ネガティブリスト）（2021年版）」には、「インターネットカルチャーに関する商品の経営（音楽を除く）」という表現があり、「音楽を除く」となっていることから、外資がインターネット音楽商品を取り扱う可能性を見出せるが、実際は「ネットワーク出版サービス管理規定（工業情報化部、旧国家新聞出版広電総局）」の存在等により難しいとされる。ネガティブリストを掌握する国家発展改革委員会および商務部と、同規定を掌握する工業情報化部等に対し、「外商投資参入特別管理措置（ネガティブリスト）」に合わせ、「ネットワーク出版サービス管理規定」を改正し、外資企業でも、インターネットでの音楽分野のサービスを運営できるよう要望する。
E36: ⑨ | F36: 規制緩和に向けた体制整備 | G36: 各種ネガティブリストの改定や、企業が新たな分野への参入を模索する中で、上記⑧のように「外商投資参入特別管理措置（ネガティブリスト）（2021年版）」や「市場参入ネガティブリスト（2022年版）」では制限されていないが、他の関連法令によって外資への開放分野が事実上制限されており、参入が難しいといった事例が生じる場合がある。外商投資法の大きな柱である「参入前の内国民待遇とネガティブリストによる外資投資管理制度」や「外商投資企業への公平な競争環境の確立」の実現にあたり、そういった事例に対応するため、国家発展改革委員会や商務部などに対応窓口を設け、問題の把握を行うとともに関連部門との連携により必要な関連法令の改正を行うことができるよう、体制の整備を要望する。
C37: 3.政府の規制運用・手続の明確化・簡素化 | E37: ⑩ | F37: 国有資産の譲渡手続の簡素化・明確化 | G37: 国有資産の譲渡手続につき、｢会社法｣、「企業国有資産取引監督管理弁法」等に基づき、通常の持分譲渡手続に加え、国有資産譲渡の審査・認可取得、資産評価、公開取引等の一連の手続も必要とされ、実務上で所用期間が相当必要となるため関連手続の簡素化を要望する。また、国有資産譲渡に該当するかの判断基準をより明確にするよう要望する（例えば、重大資産の定義の明確化など）。
E38: ⑪ | F38: 事業再編手続の簡素化 | G38: 市場経済化が進展する中で、競争の活性化を通じて、事業再編を余儀なくされる企業が出ることは自然な流れであり、撤退、分割、合併といった事業再編にかかわる時間的、費用的負担を軽減する制度整備を要望する。2020年1月に施行されたビジネス環境改善条例においても関連する方針が示されているが、税務登記抹消にかかる時間短縮の実現や、登記簡易抹消プロセスにおける関連政府当局間の認識のばらつきの是正などが求められている。こうした措置により、予見可能性が向上し、却って新たな投資をもたらすことや、中国の産業構造の適正化につながることが期待される。
E39: ⑫ | F39: 株式譲渡に関する手続の明確化・簡素化 | G39: 外国企業（非居住者企業）間における中国国内企業の株式譲渡において、株式を売却する外国企業は、「企業所得税法」および実施条例、「印紙税法」に基づいて、譲渡完了日から15日以内に譲渡対象企業が所在する地域の税務局に企業所得税および印紙税の納税申告を行う必要がある。実際には中国の代理人を起用して納税申告することが一般的となっているが、この方法であると申告漏れが発生する恐れもある。例えば、譲渡対象企業が株主名簿変更等の手続を行う際に同時に代理申告する仕組みにするなど、中国国内に所在する企業が代理申告、源泉徴収の義務を負うのが望ましいと考えるが、現状は明確な規定がない。企業投資性資産の入替え促進や申告漏れによるコンプライアンスリスク低減の観点から、譲渡や減資等にかかる手続の明確化ならびに簡素化を要望する。
E40: ⑬ | F40: 土地使用許可更新に関する詳細規定の制定 | G40: 土地使用許可について、1990年制定の「都市国有地使用権譲渡および再譲渡暫定施行条例」において工業用地の使用期限は50年と定められている。同時に、現地政府からの要求で同条例よりも短い期間での土地使用契約が求められた場合もあり、90年代に中国に進出した日系企業の中には、土地使用期限が近付いている企業も現れている。一方で、土地使用期限の更新にあたり、必要な手続や費用などの詳細について、国による統一的な基準が定められていない。近い将来多くの企業が土地使用契約の更新時期を迎えることが予想されており、混乱を避けるために、早期の詳細規定の制定を要望する。
C41: 4.情報公開の推進 | E41: ⑭ | F41: 連続的・継続的な統計・調査データの発表 | G41: 国家統計局発表のデータにつき、2023年から固定資産投資額について統計範囲が変更され、前年の数値との連続性がなくなっている。また、16～24歳の都市部調査失業率は2023年6月分を最後に発表が停止され、2024年1月に新たな定義のもとに発表が再開された。中国人民銀行による都市部預金者・銀行・企業家を対象としたアンケート調査は、2023年第2四半期を最後に発表が停止され、2024年3月になり未発表分がまとめて発表された。統計・調査データをより実態に即したものにするための制度変更の必要性は理解できる一方、投資判断にあたりデータの連続性・継続性は極めて重要なものである。政府機関による統計・調査データは可能な限り継続して発表し、定義を変更する場合は可能な限り過去にさかのぼって既存のデータを改訂するなどの対応を要望する。
E42: ⑮ | F42: 企業支援策の統一的な情報提供 | G42: 中央および地方政府は、産業振興のための各種の企業支援制度を定めており、多くの場合外資系企業も対象となっていることを高く評価する。一方で国、省、地級市など複数の行政レベルで、複数の行政部門がそれぞれ制度を定めているため、外資系企業にとって、自身が利用できる支援策の把握が難しくなっている。統一的に全国の企業支援制度が一覧できるような情報提供を要望する。
B44: 第2部 第3章 競争法
C45: 大項目 | D45: 中項目 | E45: 番号 | F45: 建議項目タイトル/要約 | G45: 建議内容
C46: 1.中国における競争法関連法令の全般について | E46: ① | F46: 「独占禁止法」に基づく関連の実施細則と運用ガイドラインの改正の早期完了 | G46: 改正された「独占禁止法」の公布後において、5つの部門規則は2023年内にいずれも改正されている。中国の独占禁止法制度は益々整備されてきており、この点については評価することができる。一方、その他の一部の関連実施細則や運用ガイドラインの面においては、なおも相応に改正されてはいない。未改正の関連実施細則と運用ガイドラインの改正も、早期に完了し、公布していただくよう要望する。
E47: ② | F47: 加重処罰適用要件と処罰確定基準の明確化 | G47: 改正された「独占禁止法」には2倍から5倍までの加重処罰制度が導入されている。しかし、この加重処罰の適用要件となる「本法に違反し、情状が特別に深刻で、影響が特別に劣悪であり、特別に深刻な結果がもたらされた状況」および処罰確定の基準については、詳細なガイドライン等の公布による明確化が行われていないことから、これらを明確化していただくよう要望する。
E48: ③ | F48: 「外商投資安全審査弁法」のさらなる整備 | G48: 「外商投資安全審査弁法」は2021年1月18日から施行されてはいるものの、外商投資安全審査の適用範囲に属する具体的な業種、審査や決定の基準、認可審査プロセスの詳細等については、不明確な点があり、ガイドラインおよび実施細則の公布等を通じ、これらを明確にしていただくよう要望する。
E49: ④ | F49: 標準必須特許保有者の開示義務の軽減、善意交渉制度の具体的な運用方法の明確化 | G49: 2023年6月30日に公布された「標準必須特許の分野に関する独占禁止ガイドライン（意見募集稿）」は、現行の「知的財産権の濫用による競争の排除および制限行為の禁止に関する規定」および「知的財産権の分野に関する独占禁止ガイドライン」に基づいて標準必須特許の分野における中国の独占禁止制度がさらに整備されたものであり、この点については評価することができる。しかしながら、当該意見募集稿では、標準必須特許の保有者に厳しい特許情報の開示義務が課されており、このような開示義務が標準の推進・実施を阻害することを懸念し、標準必須特許保有者の開示義務を適切に軽減していただくよう要望する。また、意見募集稿では、FRAND原則の具体的な表現として善意交渉が取り上げられ、その手続や要求が規定されているが、これらの規定はなおも具体化が必要であることから、善意交渉制度の詳細な運用方法を提供していただくよう要望する。
...

Sheet 選択肢
A1: (プルダウン選択)
A2: 01.貿易
A3: 02.投資
A4: 03.競争法
A5: 04.税務・会計
A6: 05.労務
A7: 06.知的財産権
A8: 07.省エネ・環境
A9: 08.物流
A10: 09.政府調達
A11: 10.業界固有の課題
A12: 11.地域固有の課題
... A15: (プルダウン選択)
A16: 1.改善[完了] | B16: 2025年白書建議のうち、改善がみられ課題が解決したもの
A17: 2.改善[継続] | B17: 2025年白書建議のうち、一部改善や進捗などがみられたが、新たな観点での要求や、引き続き改善が求められるもの
A18: 3.変動なし[継続] | B18: 2025年白書建議のうち、継続して要望するもの
A19: 4.変動なし[取り止め] | B19: 2025年白書建議のうち、継続不要と考えるもの
A20: 5.新規 | B20: 新たに提起すべき課題・要望
A22: (プルダウン選択)
A23: 第2部 第1章 貿易
A24: 第2部 第2章 投資
A25: 第2部 第3章 競争法
A26: 第2部 第4章 税務・会計
A27: 第2部 第5章 労務
A28: 第2部 第6章 知的財産権
A29: 第2部 第7章 省エネ・環境
A30: 第2部 第8章 物流
A31: 第2部 第9章 政府調達
A32: 第2部 第10章 商工会組織
A33: 第3部 第1章 農林水産業・食品
... A99: （20番以降は直接入力）

Sheet 集計用
A1: 回答 No. | B1: ステータス | C1: 課題 | D1: 改善要望 | E1: 分野 | F1: 業種/地域 | G1: 建議章 | H1: 建議番号 | I1: 法令・制度 | J1: 機関・部署 | K1: 事務局使用欄 | L1: 入力通番 | M1: ﾌｧｲﾙ番号
A2: 1 | B2: =IF(フォーム!C8="","",フォーム!C8) -> (プルダウン選択) | C2: =IF(フォーム!C10="","",フォーム!C10) | D2: =IF(フォーム!C11="","",フォーム!C11) | E2: =IF(フォーム!C12="","",フォーム!C12) -> (プルダウン選択) | F2: =IF(フォーム!C13="","",フォーム!C13) | G2: =IF(フォーム!C9="","",フォーム!C9) -> (プルダウン選択) | H2: =IF(フォーム!D9="","",フォーム!D9) -> (プルダウン選択) | I2: =IF(フォーム!C14="","",フォーム!C14) | J2: =IF(フォーム!C15="","",フォーム!C15)
A3: 2 | B3: =IF(フォーム!C18="","",フォーム!C18) -> (プルダウン選択) | C3: =IF(フォーム!C20="","",フォーム!C20) | D3: =IF(フォーム!C21="","",フォーム!C21) | E3: =IF(フォーム!C22="","",フォーム!C22) -> (プルダウン選択) | F3: =IF(フォーム!C23="","",フォーム!C23) | G3: =IF(フォーム!C19="","",フォーム!C19) -> (プルダウン選択) | H3: =IF(フォーム!D19="","",フォーム!D19) -> (プルダウン選択) | I3: =IF(フォーム!C24="","",フォーム!C24) | J3: =IF(フォーム!C25="","",フォーム!C25)
A4: 3 | B4: =IF(フォーム!C28="","",フォーム!C28) -> (プルダウン選択) | C4: =IF(フォーム!C30="","",フォーム!C30) | D4: =IF(フォーム!C31="","",フォーム!C31) | E4: =IF(フォーム!C32="","",フォーム!C32) -> (プルダウン選択) | F4: =IF(フォーム!C33="","",フォーム!C33) | G4: =IF(フォーム!C29="","",フォーム!C29) -> (プルダウン選択) | H4: =IF(フォーム!D29="","",フォーム!D29) -> (プルダウン選択) | I4: =IF(フォーム!C34="","",フォーム!C34) | J4: =IF(フォーム!C35="","",フォーム!C35)
A5: 4 | B5: =IF(フォーム!C38="","",フォーム!C38) -> (プルダウン選択) | C5: =IF(フォーム!C40="","",フォーム!C40) | D5: =IF(フォーム!C41="","",フォーム!C41) | E5: =IF(フォーム!C42="","",フォーム!C42) -> (プルダウン選択) | F5: =IF(フォーム!C43="","",フォーム!C43) | G5: =IF(フォーム!C39="","",フォーム!C39) -> (プルダウン選択) | H5: =IF(フォーム!D39="","",フォーム!D39) -> (プルダウン選択) | I5: =IF(フォーム!C44="","",フォーム!C44) | J5: =IF(フォーム!C45="","",フォーム!C45)
A6: 5 | B6: =IF(フォーム!C48="","",フォーム!C48) -> (プルダウン選択) | C6: =IF(フォーム!C50="","",フォーム!C50) | D6: =IF(フォーム!C51="","",フォーム!C51) | E6: =IF(フォーム!C52="","",フォーム!C52) -> (プルダウン選択) | F6: =IF(フォーム!C53="","",フォーム!C53) | G6: =IF(フォーム!C49="","",フォーム!C49) -> (プルダウン選択) | H6: =IF(フォーム!D49="","",フォーム!D49) -> (プルダウン選択) | I6: =IF(フォーム!C54="","",フォーム!C54) | J6: =IF(フォーム!C55="","",フォーム!C55)
A7: 6 | B7: =IF(フォーム!C58="","",フォーム!C58) -> (プルダウン選択) | C7: =IF(フォーム!C60="","",フォーム!C60) | D7: =IF(フォーム!C61="","",フォーム!C61) | E7: =IF(フォーム!C62="","",フォーム!C62) -> (プルダウン選択) | F7: =IF(フォーム!C63="","",フォーム!C63) | G7: =IF(フォーム!C59="","",フォーム!C59) -> (プルダウン選択) | H7: =IF(フォーム!D59="","",フォーム!D59) -> (プルダウン選択) | I7: =IF(フォーム!C64="","",フォーム!C64) | J7: =IF(フォーム!C65="","",フォーム!C65)
A8: 7 | B8: =IF(フォーム!C68="","",フォーム!C68) -> (プルダウン選択) | C8: =IF(フォーム!C70="","",フォーム!C70) | D8: =IF(フォーム!C71="","",フォーム!C71) | E8: =IF(フォーム!C72="","",フォーム!C72) -> (プルダウン選択) | F8: =IF(フォーム!C73="","",フォーム!C73) | G8: =IF(フォーム!C69="","",フォーム!C69) -> (プルダウン選択) | H8: =IF(フォーム!D69="","",フォーム!D69) -> (プルダウン選択) | I8: =IF(フォーム!C74="","",フォーム!C74) | J8: =IF(フォーム!C75="","",フォーム!C75)
A9: 8 | B9: =IF(フォーム!C78="","",フォーム!C78) -> (プルダウン選択) | C9: =IF(フォーム!C80="","",フォーム!C80) | D9: =IF(フォーム!C81="","",フォーム!C81) | E9: =IF(フォーム!C82="","",フォーム!C82) -> (プルダウン選択) | F9: =IF(フォーム!C83="","",フォーム!C83) | G9: =IF(フォーム!C79="","",フォーム!C79) -> (プルダウン選択) | H9: =IF(フォーム!D79="","",フォーム!D79) -> (プルダウン選択) | I9: =IF(フォーム!C84="","",フォーム!C84) | J9: =IF(フォーム!C85="","",フォーム!C85)
A10: 9 | B10: =IF(フォーム!C88="","",フォーム!C88) | C10: =IF(フォーム!C90="","",フォーム!C90) | D10: =IF(フォーム!C91="","",フォーム!C91) | E10: =IF(フォーム!C92="","",フォーム!C92) | F10: =IF(フォーム!C93="","",フォーム!C93) | G10: =IF(フォーム!C89="","",フォーム!C89) | H10: =IF(フォーム!D89="","",フォーム!D89) | I10: =IF(フォーム!C94="","",フォーム!C94) | J10: =IF(フォーム!C95="","",フォーム!C95)
A11: 10 | B11: =IF(フォーム!C98="","",フォーム!C98) | C11: =IF(フォーム!C100="","",フォーム!C100) | D11: =IF(フォーム!C101="","",フォーム!C101)
B37: =IF(フォーム!C122="","",フォーム!C122)
